Package: Sconify Version: 1.27.0 Command: rm -rf Sconify.buildbin-libdir && mkdir Sconify.buildbin-libdir && E:\biocbuild\bbs-3.21-bioc\R\bin\R.exe CMD INSTALL --build --library=Sconify.buildbin-libdir Sconify_1.27.0.tar.gz StartedAt: 2025-02-21 09:02:35 -0500 (Fri, 21 Feb 2025) EndedAt: 2025-02-21 09:02:58 -0500 (Fri, 21 Feb 2025) EllapsedTime: 22.7 seconds RetCode: 0 Status: OK PackageFile: Sconify_1.27.0.zip PackageFileSize: 3.114 MiB