Package: Sconify Version: 1.27.0 Command: /Library/Frameworks/R.framework/Resources/bin/R CMD build --keep-empty-dirs --no-resave-data Sconify StartedAt: 2025-02-20 17:32:11 -0500 (Thu, 20 Feb 2025) EndedAt: 2025-02-20 17:32:24 -0500 (Thu, 20 Feb 2025) EllapsedTime: 13.2 seconds RetCode: 0 Status: OK PackageFile: Sconify_1.27.0.tar.gz PackageFileSize: 4.887 MiB