Package: ScaledMatrix Version: 1.15.0 Command: /home/biocbuild/bbs-3.21-bioc/R/bin/R CMD INSTALL ScaledMatrix StartedAt: 2025-02-17 15:50:04 -0500 (Mon, 17 Feb 2025) EndedAt: 2025-02-17 15:50:23 -0500 (Mon, 17 Feb 2025) EllapsedTime: 19.2 seconds RetCode: 0 Status: OK