Package: ScaledMatrix Version: 1.15.0 Command: /home/biocbuild/bbs-3.21-bioc/R/bin/R CMD check --install=check:ScaledMatrix.install-out.txt --library=/home/biocbuild/bbs-3.21-bioc/R/site-library --timings ScaledMatrix_1.15.0.tar.gz StartedAt: 2025-02-18 01:51:08 -0500 (Tue, 18 Feb 2025) EndedAt: 2025-02-18 01:55:40 -0500 (Tue, 18 Feb 2025) EllapsedTime: 271.3 seconds RetCode: 0 Status: OK CheckDir: ScaledMatrix.Rcheck Warnings: 0