Package: ScaledMatrix Version: 1.15.0 Command: /home/biocbuild/bbs-3.21-bioc/R/bin/R CMD build --keep-empty-dirs --no-resave-data ScaledMatrix StartedAt: 2025-02-17 18:57:43 -0500 (Mon, 17 Feb 2025) EndedAt: 2025-02-17 19:00:00 -0500 (Mon, 17 Feb 2025) EllapsedTime: 137.2 seconds RetCode: 0 Status: OK PackageFile: ScaledMatrix_1.15.0.tar.gz PackageFileSize: 306.3 KiB