Package: ScaledMatrix Version: 1.15.0 Command: /Library/Frameworks/R.framework/Resources/bin/R CMD INSTALL ScaledMatrix StartedAt: 2025-02-17 15:08:29 -0500 (Mon, 17 Feb 2025) EndedAt: 2025-02-17 15:08:50 -0500 (Mon, 17 Feb 2025) EllapsedTime: 20.4 seconds RetCode: 0 Status: OK