Package: ScaledMatrix Version: 1.15.0 Command: /Library/Frameworks/R.framework/Resources/bin/R CMD check --install=check:ScaledMatrix.install-out.txt --library=/Library/Frameworks/R.framework/Resources/library --no-vignettes --timings ScaledMatrix_1.15.0.tar.gz StartedAt: 2025-02-17 22:54:21 -0500 (Mon, 17 Feb 2025) EndedAt: 2025-02-17 22:57:21 -0500 (Mon, 17 Feb 2025) EllapsedTime: 179.1 seconds RetCode: 0 Status: OK CheckDir: ScaledMatrix.Rcheck Warnings: 0