Package: ScaledMatrix Version: 1.15.0 Command: /Library/Frameworks/R.framework/Resources/bin/R CMD build --keep-empty-dirs --no-resave-data ScaledMatrix StartedAt: 2025-02-17 18:04:43 -0500 (Mon, 17 Feb 2025) EndedAt: 2025-02-17 18:07:07 -0500 (Mon, 17 Feb 2025) EllapsedTime: 143.9 seconds RetCode: 0 Status: OK PackageFile: ScaledMatrix_1.15.0.tar.gz PackageFileSize: 306.2 KiB