Package: SamSPECTRAL Version: 1.61.0 Command: E:\biocbuild\bbs-3.21-bioc\R\bin\R.exe CMD INSTALL SamSPECTRAL StartedAt: 2025-02-17 15:23:08 -0500 (Mon, 17 Feb 2025) EndedAt: 2025-02-17 15:23:29 -0500 (Mon, 17 Feb 2025) EllapsedTime: 20.9 seconds RetCode: 0 Status: OK