Package: SamSPECTRAL Version: 1.61.0 Command: E:\biocbuild\bbs-3.21-bioc\R\bin\R.exe CMD check --no-multiarch --install=check:SamSPECTRAL.install-out.txt --library=E:\biocbuild\bbs-3.21-bioc\R\library --no-vignettes --timings SamSPECTRAL_1.61.0.tar.gz StartedAt: 2025-02-18 04:45:58 -0500 (Tue, 18 Feb 2025) EndedAt: 2025-02-18 04:46:33 -0500 (Tue, 18 Feb 2025) EllapsedTime: 35.3 seconds RetCode: 0 Status: WARNINGS CheckDir: SamSPECTRAL.Rcheck Warnings: 1