Package: SamSPECTRAL Version: 1.61.0 Command: chmod a+r SamSPECTRAL -R && E:\biocbuild\bbs-3.21-bioc\R\bin\R.exe CMD build --keep-empty-dirs --no-resave-data SamSPECTRAL StartedAt: 2025-02-17 21:13:44 -0500 (Mon, 17 Feb 2025) EndedAt: 2025-02-17 21:15:13 -0500 (Mon, 17 Feb 2025) EllapsedTime: 89.3 seconds RetCode: 0 Status: OK PackageFile: SamSPECTRAL_1.61.0.tar.gz PackageFileSize: 833.4 KiB