Package: SamSPECTRAL Version: 1.61.0 Command: rm -rf SamSPECTRAL.buildbin-libdir && mkdir SamSPECTRAL.buildbin-libdir && E:\biocbuild\bbs-3.21-bioc\R\bin\R.exe CMD INSTALL --build --library=SamSPECTRAL.buildbin-libdir SamSPECTRAL_1.61.0.tar.gz StartedAt: 2025-02-18 08:13:10 -0500 (Tue, 18 Feb 2025) EndedAt: 2025-02-18 08:13:30 -0500 (Tue, 18 Feb 2025) EllapsedTime: 19.8 seconds RetCode: 0 Status: OK PackageFile: SamSPECTRAL_1.61.0.zip PackageFileSize: 898.7 KiB