Package: SamSPECTRAL Version: 1.61.0 Command: /home/biocbuild/bbs-3.21-bioc/R/bin/R CMD build --keep-empty-dirs --no-resave-data SamSPECTRAL StartedAt: 2025-02-17 18:56:52 -0500 (Mon, 17 Feb 2025) EndedAt: 2025-02-17 18:57:48 -0500 (Mon, 17 Feb 2025) EllapsedTime: 56.1 seconds RetCode: 0 Status: OK PackageFile: SamSPECTRAL_1.61.0.tar.gz PackageFileSize: 936.7 KiB