Package: SamSPECTRAL Version: 1.61.0 Command: rm -rf SamSPECTRAL.buildbin-libdir && mkdir SamSPECTRAL.buildbin-libdir && /Users/biocbuild/BBS/utils/build-universal.sh SamSPECTRAL_1.61.0.tar.gz /Library/Frameworks/R.framework/Resources/bin/R SamSPECTRAL.buildbin-libdir StartedAt: 2025-02-17 22:32:11 -0500 (Mon, 17 Feb 2025) EndedAt: 2025-02-17 22:32:15 -0500 (Mon, 17 Feb 2025) EllapsedTime: 3.1 seconds RetCode: 0 Status: OK PackageFile: SamSPECTRAL_1.61.0.tgz PackageFileSize: 997.1 KiB