Package: SWATH2stats Version: 1.37.0 Command: /Library/Frameworks/R.framework/Resources/bin/R CMD check --install=check:SWATH2stats.install-out.txt --library=/Library/Frameworks/R.framework/Resources/library --no-vignettes --timings SWATH2stats_1.37.0.tar.gz StartedAt: 2025-02-20 23:39:10 -0500 (Thu, 20 Feb 2025) EndedAt: 2025-02-20 23:42:01 -0500 (Thu, 20 Feb 2025) EllapsedTime: 170.4 seconds RetCode: 0 Status: OK CheckDir: SWATH2stats.Rcheck Warnings: 0