Package: SVMDO Version: 1.7.0 Command: E:\biocbuild\bbs-3.21-bioc\R\bin\R.exe CMD check --no-multiarch --install=check:SVMDO.install-out.txt --library=E:\biocbuild\bbs-3.21-bioc\R\library --no-vignettes --timings SVMDO_1.7.0.tar.gz StartedAt: 2025-02-22 06:48:41 -0500 (Sat, 22 Feb 2025) EndedAt: 2025-02-22 06:54:28 -0500 (Sat, 22 Feb 2025) EllapsedTime: 347.0 seconds RetCode: 0 Status: OK CheckDir: SVMDO.Rcheck Warnings: 0