Package: SVMDO Version: 1.7.0 Command: /home/biocbuild/bbs-3.21-bioc/R/bin/R CMD check --install=check:SVMDO.install-out.txt --library=/home/biocbuild/bbs-3.21-bioc/R/site-library --timings SVMDO_1.7.0.tar.gz StartedAt: 2025-02-22 02:45:19 -0500 (Sat, 22 Feb 2025) EndedAt: 2025-02-22 02:51:50 -0500 (Sat, 22 Feb 2025) EllapsedTime: 391.7 seconds RetCode: 0 Status: OK CheckDir: SVMDO.Rcheck Warnings: 0