Package: SUITOR Version: 1.9.0 Command: chmod a+r SUITOR -R && E:\biocbuild\bbs-3.21-bioc\R\bin\R.exe CMD build --keep-empty-dirs --no-resave-data SUITOR StartedAt: 2025-02-20 22:08:11 -0500 (Thu, 20 Feb 2025) EndedAt: 2025-02-20 22:09:22 -0500 (Thu, 20 Feb 2025) EllapsedTime: 71.0 seconds RetCode: 0 Status: OK PackageFile: SUITOR_1.9.0.tar.gz PackageFileSize: 252.7 KiB