Package: SUITOR Version: 1.9.0 Command: /home/biocbuild/bbs-3.21-bioc/R/bin/R CMD check --install=check:SUITOR.install-out.txt --library=/home/biocbuild/bbs-3.21-bioc/R/site-library --timings SUITOR_1.9.0.tar.gz StartedAt: 2025-02-21 02:22:51 -0500 (Fri, 21 Feb 2025) EndedAt: 2025-02-21 02:24:24 -0500 (Fri, 21 Feb 2025) EllapsedTime: 93.1 seconds RetCode: 0 Status: OK CheckDir: SUITOR.Rcheck Warnings: 0