Package: SUITOR Version: 1.9.0 Command: /Library/Frameworks/R.framework/Resources/bin/R CMD build --keep-empty-dirs --no-resave-data SUITOR StartedAt: 2025-02-20 18:27:04 -0500 (Thu, 20 Feb 2025) EndedAt: 2025-02-20 18:28:11 -0500 (Thu, 20 Feb 2025) EllapsedTime: 67.3 seconds RetCode: 0 Status: OK PackageFile: SUITOR_1.9.0.tar.gz PackageFileSize: 252.5 KiB