Package: SUITOR Version: 1.9.0 Command: rm -rf SUITOR.buildbin-libdir && mkdir SUITOR.buildbin-libdir && /Users/biocbuild/BBS/utils/build-universal.sh SUITOR_1.9.0.tar.gz /Library/Frameworks/R.framework/Resources/bin/R SUITOR.buildbin-libdir StartedAt: 2025-02-21 00:56:20 -0500 (Fri, 21 Feb 2025) EndedAt: 2025-02-21 00:56:31 -0500 (Fri, 21 Feb 2025) EllapsedTime: 10.3 seconds RetCode: 0 Status: OK PackageFile: SUITOR_1.9.0.tgz PackageFileSize: 310.7 KiB