Package: SUITOR Version: 1.9.0 Command: rm -rf SUITOR.buildbin-libdir && mkdir SUITOR.buildbin-libdir && /Users/biocbuild/BBS/utils/build-universal.sh SUITOR_1.9.0.tar.gz /Library/Frameworks/R.framework/Resources/bin/R SUITOR.buildbin-libdir StartedAt: 2025-02-20 22:37:19 -0500 (Thu, 20 Feb 2025) EndedAt: 2025-02-20 22:37:22 -0500 (Thu, 20 Feb 2025) EllapsedTime: 3.1 seconds RetCode: 0 Status: OK PackageFile: SUITOR_1.9.0.tgz PackageFileSize: 308 KiB