Package: STRINGdb Version: 2.19.0 Command: /home/biocbuild/bbs-3.21-bioc/R/bin/R CMD INSTALL STRINGdb StartedAt: 2025-02-18 15:09:30 -0500 (Tue, 18 Feb 2025) EndedAt: 2025-02-18 15:09:45 -0500 (Tue, 18 Feb 2025) EllapsedTime: 14.8 seconds RetCode: 0 Status: OK