Package: STRINGdb Version: 2.19.0 Command: rm -rf STRINGdb.buildbin-libdir && mkdir STRINGdb.buildbin-libdir && /Users/biocbuild/BBS/utils/build-universal.sh STRINGdb_2.19.0.tar.gz /Library/Frameworks/R.framework/Resources/bin/R STRINGdb.buildbin-libdir StartedAt: 2025-02-19 00:50:12 -0500 (Wed, 19 Feb 2025) EndedAt: 2025-02-19 00:50:23 -0500 (Wed, 19 Feb 2025) EllapsedTime: 10.5 seconds RetCode: 0 Status: OK PackageFile: STRINGdb_2.19.0.tgz PackageFileSize: 10.14 MiB