Package: STRINGdb Version: 2.19.0 Command: /Library/Frameworks/R.framework/Resources/bin/R CMD INSTALL STRINGdb StartedAt: 2025-02-18 15:07:11 -0500 (Tue, 18 Feb 2025) EndedAt: 2025-02-18 15:07:13 -0500 (Tue, 18 Feb 2025) EllapsedTime: 2.2 seconds RetCode: 0 Status: OK