Package: STRINGdb Version: 2.19.0 Command: /Library/Frameworks/R.framework/Resources/bin/R CMD build --keep-empty-dirs --no-resave-data STRINGdb StartedAt: 2025-02-18 17:47:32 -0500 (Tue, 18 Feb 2025) EndedAt: 2025-02-18 17:50:39 -0500 (Tue, 18 Feb 2025) EllapsedTime: 187.2 seconds RetCode: 0 Status: OK PackageFile: STRINGdb_2.19.0.tar.gz PackageFileSize: 9.949 MiB