Package: STATegRa Version: 1.43.0 Command: /home/biocbuild/bbs-3.21-bioc/R/bin/R CMD INSTALL STATegRa StartedAt: 2025-02-21 15:54:48 -0500 (Fri, 21 Feb 2025) EndedAt: 2025-02-21 15:55:01 -0500 (Fri, 21 Feb 2025) EllapsedTime: 13.0 seconds RetCode: 0 Status: OK