Package: STATegRa Version: 1.43.0 Command: /home/biocbuild/bbs-3.21-bioc/R/bin/R CMD check --install=check:STATegRa.install-out.txt --library=/home/biocbuild/bbs-3.21-bioc/R/site-library --timings STATegRa_1.43.0.tar.gz StartedAt: 2025-02-22 02:39:53 -0500 (Sat, 22 Feb 2025) EndedAt: 2025-02-22 02:44:27 -0500 (Sat, 22 Feb 2025) EllapsedTime: 273.4 seconds RetCode: 0 Status: OK CheckDir: STATegRa.Rcheck Warnings: 0