Package: SRAdb Version: 1.69.2 Command: rm -rf SRAdb.buildbin-libdir && mkdir SRAdb.buildbin-libdir && /Users/biocbuild/BBS/utils/build-universal.sh SRAdb_1.69.2.tar.gz /Library/Frameworks/R.framework/Resources/bin/R SRAdb.buildbin-libdir StartedAt: 2025-02-19 00:49:47 -0500 (Wed, 19 Feb 2025) EndedAt: 2025-02-19 00:49:56 -0500 (Wed, 19 Feb 2025) EllapsedTime: 9.2 seconds RetCode: 0 Status: OK PackageFile: SRAdb_1.69.2.tgz PackageFileSize: 847 KiB