Package: SQLDataFrame Version: 1.21.0 Command: E:\biocbuild\bbs-3.21-bioc\R\bin\R.exe CMD INSTALL SQLDataFrame StartedAt: 2025-02-20 15:50:34 -0500 (Thu, 20 Feb 2025) EndedAt: 2025-02-20 15:51:28 -0500 (Thu, 20 Feb 2025) EllapsedTime: 54.2 seconds RetCode: 0 Status: OK