Package: SQLDataFrame Version: 1.21.0 Command: E:\biocbuild\bbs-3.21-bioc\R\bin\R.exe CMD check --no-multiarch --install=check:SQLDataFrame.install-out.txt --library=E:\biocbuild\bbs-3.21-bioc\R\library --no-vignettes --timings SQLDataFrame_1.21.0.tar.gz StartedAt: 2025-02-21 06:11:29 -0500 (Fri, 21 Feb 2025) EndedAt: 2025-02-21 06:14:30 -0500 (Fri, 21 Feb 2025) EllapsedTime: 180.8 seconds RetCode: 0 Status: WARNINGS CheckDir: SQLDataFrame.Rcheck Warnings: 2