Package: SQLDataFrame Version: 1.21.0 Command: /home/biocbuild/bbs-3.21-bioc/R/bin/R CMD check --install=check:SQLDataFrame.install-out.txt --library=/home/biocbuild/bbs-3.21-bioc/R/site-library --timings SQLDataFrame_1.21.0.tar.gz StartedAt: 2025-02-21 02:16:30 -0500 (Fri, 21 Feb 2025) EndedAt: 2025-02-21 02:16:35 -0500 (Fri, 21 Feb 2025) EllapsedTime: 5.0 seconds RetCode: 1 Status: ERROR CheckDir: SQLDataFrame.Rcheck Warnings: NA