Package: SQLDataFrame Version: 1.21.0 Command: /home/biocbuild/bbs-3.21-bioc/R/bin/R CMD build --keep-empty-dirs --no-resave-data SQLDataFrame StartedAt: 2025-02-20 19:27:47 -0500 (Thu, 20 Feb 2025) EndedAt: 2025-02-20 19:28:14 -0500 (Thu, 20 Feb 2025) EllapsedTime: 27.0 seconds RetCode: 0 Status: OK PackageFile: SQLDataFrame_1.21.0.tar.gz PackageFileSize: 235 KiB