Package: SQLDataFrame Version: 1.21.0 Command: /Library/Frameworks/R.framework/Resources/bin/R CMD check --install=check:SQLDataFrame.install-out.txt --library=/Library/Frameworks/R.framework/Resources/library --no-vignettes --timings SQLDataFrame_1.21.0.tar.gz StartedAt: 2025-02-20 21:39:32 -0500 (Thu, 20 Feb 2025) EndedAt: 2025-02-20 21:40:27 -0500 (Thu, 20 Feb 2025) EllapsedTime: 55.6 seconds RetCode: 0 Status: WARNINGS CheckDir: SQLDataFrame.Rcheck Warnings: 2