Package: SQLDataFrame Version: 1.21.0 Command: rm -rf SQLDataFrame.buildbin-libdir && mkdir SQLDataFrame.buildbin-libdir && /Users/biocbuild/BBS/utils/build-universal.sh SQLDataFrame_1.21.0.tar.gz /Library/Frameworks/R.framework/Resources/bin/R SQLDataFrame.buildbin-libdir StartedAt: 2025-02-20 22:37:00 -0500 (Thu, 20 Feb 2025) EndedAt: 2025-02-20 22:37:08 -0500 (Thu, 20 Feb 2025) EllapsedTime: 8.2 seconds RetCode: 0 Status: OK PackageFile: SQLDataFrame_1.21.0.tgz PackageFileSize: 575.3 KiB