Package: SQLDataFrame Version: 1.22.0 Command: /Library/Frameworks/R.framework/Resources/bin/R CMD INSTALL SQLDataFrame StartedAt: 2025-07-17 15:38:23 -0400 (Thu, 17 Jul 2025) EndedAt: 2025-07-17 15:38:44 -0400 (Thu, 17 Jul 2025) EllapsedTime: 20.3 seconds RetCode: 0 Status: OK