Package: SQLDataFrame Version: 1.22.0 Command: /Library/Frameworks/R.framework/Resources/bin/R CMD build --keep-empty-dirs --no-resave-data SQLDataFrame StartedAt: 2025-07-18 09:31:45 -0400 (Fri, 18 Jul 2025) EndedAt: 2025-07-18 09:32:21 -0400 (Fri, 18 Jul 2025) EllapsedTime: 35.1 seconds RetCode: 0 Status: OK PackageFile: SQLDataFrame_1.22.0.tar.gz PackageFileSize: 234.9 KiB