Package: SPsimSeq Version: 1.17.0 Command: /Library/Frameworks/R.framework/Resources/bin/R CMD INSTALL SPsimSeq StartedAt: 2025-02-19 15:35:38 -0500 (Wed, 19 Feb 2025) EndedAt: 2025-02-19 15:36:23 -0500 (Wed, 19 Feb 2025) EllapsedTime: 45.6 seconds RetCode: 0 Status: OK