Package: SPsimSeq Version: 1.17.0 Command: rm -rf SPsimSeq.buildbin-libdir && mkdir SPsimSeq.buildbin-libdir && /Users/biocbuild/BBS/utils/build-universal.sh SPsimSeq_1.17.0.tar.gz /Library/Frameworks/R.framework/Resources/bin/R SPsimSeq.buildbin-libdir StartedAt: 2025-02-21 00:55:46 -0500 (Fri, 21 Feb 2025) EndedAt: 2025-02-21 00:56:34 -0500 (Fri, 21 Feb 2025) EllapsedTime: 48.5 seconds RetCode: 0 Status: OK PackageFile: SPsimSeq_1.17.0.tgz PackageFileSize: 941 KiB