Package: SPsimSeq Version: 1.18.0 Command: /Library/Frameworks/R.framework/Resources/bin/R CMD INSTALL SPsimSeq StartedAt: 2025-10-13 17:45:38 -0400 (Mon, 13 Oct 2025) EndedAt: 2025-10-13 17:46:20 -0400 (Mon, 13 Oct 2025) EllapsedTime: 41.7 seconds RetCode: 0 Status: OK