Package: SPOTlight Version: 1.11.0 Command: /home/biocbuild/bbs-3.21-bioc/R/bin/R CMD INSTALL SPOTlight StartedAt: 2025-02-19 15:19:39 -0500 (Wed, 19 Feb 2025) EndedAt: 2025-02-19 15:20:05 -0500 (Wed, 19 Feb 2025) EllapsedTime: 26.0 seconds RetCode: 0 Status: OK