Package: SPOTlight Version: 1.11.0 Command: /Library/Frameworks/R.framework/Resources/bin/R CMD build --keep-empty-dirs --no-resave-data SPOTlight StartedAt: 2025-02-19 17:44:36 -0500 (Wed, 19 Feb 2025) EndedAt: 2025-02-19 17:45:41 -0500 (Wed, 19 Feb 2025) EllapsedTime: 64.8 seconds RetCode: 0 Status: OK PackageFile: SPOTlight_1.11.0.tar.gz PackageFileSize: 4.532 MiB