Package: SPONGE Version: 1.29.0 Command: E:\biocbuild\bbs-3.21-bioc\R\bin\R.exe CMD check --no-multiarch --install=check:SPONGE.install-out.txt --library=E:\biocbuild\bbs-3.21-bioc\R\library --no-vignettes --timings SPONGE_1.29.0.tar.gz StartedAt: 2025-02-22 06:36:06 -0500 (Sat, 22 Feb 2025) EndedAt: 2025-02-22 06:43:08 -0500 (Sat, 22 Feb 2025) EllapsedTime: 422.4 seconds RetCode: 0 Status: WARNINGS CheckDir: SPONGE.Rcheck Warnings: 5