Package: SPONGE Version: 1.29.0 Command: chmod a+r SPONGE -R && E:\biocbuild\bbs-3.21-bioc\R\bin\R.exe CMD build --keep-empty-dirs --no-resave-data SPONGE StartedAt: 2025-02-21 22:36:04 -0500 (Fri, 21 Feb 2025) EndedAt: 2025-02-21 22:39:45 -0500 (Fri, 21 Feb 2025) EllapsedTime: 220.2 seconds RetCode: 0 Status: OK PackageFile: SPONGE_1.29.0.tar.gz PackageFileSize: 8.664 MiB