Package: SPONGE Version: 1.29.0 Command: rm -rf SPONGE.buildbin-libdir && mkdir SPONGE.buildbin-libdir && E:\biocbuild\bbs-3.21-bioc\R\bin\R.exe CMD INSTALL --build --library=SPONGE.buildbin-libdir SPONGE_1.29.0.tar.gz StartedAt: 2025-02-22 09:26:28 -0500 (Sat, 22 Feb 2025) EndedAt: 2025-02-22 09:28:01 -0500 (Sat, 22 Feb 2025) EllapsedTime: 92.4 seconds RetCode: 0 Status: OK PackageFile: SPONGE_1.29.0.zip PackageFileSize: 8.422 MiB