Package: SPONGE Version: 1.29.0 Command: /Library/Frameworks/R.framework/Resources/bin/R CMD build --keep-empty-dirs --no-resave-data SPONGE StartedAt: 2025-02-21 18:24:32 -0500 (Fri, 21 Feb 2025) EndedAt: 2025-02-21 18:27:45 -0500 (Fri, 21 Feb 2025) EllapsedTime: 192.8 seconds RetCode: 1 Status: ERROR PackageFile: None PackageFileSize: NA