Package: SPONGE Version: 1.29.0 Command: /Library/Frameworks/R.framework/Resources/bin/R CMD INSTALL SPONGE StartedAt: 2025-02-21 15:29:32 -0500 (Fri, 21 Feb 2025) EndedAt: 2025-02-21 15:30:05 -0500 (Fri, 21 Feb 2025) EllapsedTime: 33.9 seconds RetCode: 0 Status: OK