Package: SPONGE Version: 1.29.0 Command: /Library/Frameworks/R.framework/Resources/bin/R CMD check --install=check:SPONGE.install-out.txt --library=/Library/Frameworks/R.framework/Resources/library --no-vignettes --timings SPONGE_1.29.0.tar.gz StartedAt: 2025-02-21 22:16:50 -0500 (Fri, 21 Feb 2025) EndedAt: 2025-02-21 22:18:50 -0500 (Fri, 21 Feb 2025) EllapsedTime: 119.5 seconds RetCode: 0 Status: WARNINGS CheckDir: SPONGE.Rcheck Warnings: 5