Package: SPONGE Version: 1.29.0 Command: rm -rf SPONGE.buildbin-libdir && mkdir SPONGE.buildbin-libdir && /Users/biocbuild/BBS/utils/build-universal.sh SPONGE_1.29.0.tar.gz /Library/Frameworks/R.framework/Resources/bin/R SPONGE.buildbin-libdir StartedAt: 2025-02-21 23:14:16 -0500 (Fri, 21 Feb 2025) EndedAt: 2025-02-21 23:14:54 -0500 (Fri, 21 Feb 2025) EllapsedTime: 37.8 seconds RetCode: 0 Status: OK PackageFile: SPONGE_1.29.0.tgz PackageFileSize: 8.731 MiB