Package: SPLINTER Version: 1.33.0 Command: chmod a+r SPLINTER -R && E:\biocbuild\bbs-3.21-bioc\R\bin\R.exe CMD build --keep-empty-dirs --no-resave-data SPLINTER StartedAt: 2025-02-19 21:53:15 -0500 (Wed, 19 Feb 2025) EndedAt: 2025-02-19 21:55:21 -0500 (Wed, 19 Feb 2025) EllapsedTime: 125.9 seconds RetCode: 0 Status: OK PackageFile: SPLINTER_1.33.0.tar.gz PackageFileSize: 961.9 KiB